BEGIN:VCALENDAR
PRODID:-//eluceo/ical//2.0/EN
VERSION:2.0
CALSCALE:GREGORIAN
BEGIN:VEVENT
UID:event-19
DTSTAMP:20260419T172711Z
SUMMARY:General Members Meeting
DESCRIPTION:On September 13\, the Semi-annual General Members' Meeting of A
 sset will take place. The meeting starts at 18.30 hours on the campus\, t
 he location will be specified later. The minutes of the previous General 
 Members’ Meeting on February 8\, and the semi-annual report\, are availa
 ble upon request by mailing to info@Asset-Tilburg.nl.
DTSTART:20230913T163000Z
DTEND:20230913T200000Z
END:VEVENT
BEGIN:VTIMEZONE
TZID:UTC
BEGIN:STANDARD
DTSTART:20230913T163000
TZNAME:UTC
TZOFFSETTO:+0000
TZOFFSETFROM:+0000
END:STANDARD
END:VTIMEZONE
END:VCALENDAR
